BEGIN:VCALENDAR
VERSION:2.0
PRODID:BrisSUP Club Inc.
CALSCALE:GREGORIAN
BEGIN:VEVENT
DTSTAMP:20190226T125343Z
UID:6f3fec98-d4de-4f6a-a38f-a0da8a4e0fc9
DTSTART:20170211T233000Z
DTEND:20170212T010000Z
DESCRIPTION:BrisSUP Summer BOP Series - Race 6\n
LOCATION:Raby Bay
SUMMARY:BrisSUP Summer BOP Series - Race 6
URL:http://brissupclub.com.au/public/events/9358-brissup-summer-bop-series-
 race-6
END:VEVENT
END:VCALENDAR
