BEGIN:VCALENDAR
VERSION:2.0
PRODID:BrisSUP Club Inc.
CALSCALE:GREGORIAN
BEGIN:VEVENT
DTSTAMP:20190226T125414Z
UID:64e39384-c5df-44b9-a288-b9b695c018f1
DTSTART:20170115T003000Z
DTEND:20170115T020000Z
DESCRIPTION:BrisSUP Summer BOP Series - Race 5\n
LOCATION:Pandanus Beach\, Wynnum
SUMMARY:BrisSUP Summer BOP Series - Race 5
URL:http://brissupclub.com.au/public/events/9357-brissup-summer-bop-series-
 race-5
END:VEVENT
END:VCALENDAR
