BEGIN:VCALENDAR
VERSION:2.0
PRODID:BrisSUP Club Inc.
CALSCALE:GREGORIAN
BEGIN:VEVENT
DTSTAMP:20190226T125647Z
UID:8c2995f6-1204-482d-9aba-d8d674e8aa17
DTSTART:20170805T220000Z
DTEND:20170805T220000Z
DESCRIPTION:BrisSUP Winter Distance Series - Race 4\n\n \n\nWinter series f
 ormat \n\nJunior - 300m Circuit\, no. of laps based on entrants abilities\n
 \nShort - 2-4km based on conditions\n\nLong - 6-8km Based on conditions\n\n
  \n\nScoring to remain as points / percentage back\, calculated by webscore
 r\n\n \n
LOCATION:Queens Beach\, Redcliffe\, QLD
SUMMARY:BrisSUP Winter Distance Series - Race 4
URL:http://brissupclub.com.au/public/events/12288-brissup-winter-distance-s
 eries-race-4
END:VEVENT
END:VCALENDAR
